BEGIN:VCALENDAR
VERSION:2.0
PRODID:-//ÉChO - Église Évangélique Chrétienne à Orange - ECPv4.8.1.1//NONSGML v1.0//EN
CALSCALE:GREGORIAN
METHOD:PUBLISH
X-WR-CALNAME:ÉChO - Église Évangélique Chrétienne à Orange
X-ORIGINAL-URL:https://www.eglise-echo-orange.org
X-WR-CALDESC:évènements pour ÉChO - Église Évangélique Chrétienne à Orange
BEGIN:VEVENT
DTSTART;TZID=Europe/Paris:20181125T111000
DTEND;TZID=Europe/Paris:20181125T111000
DTSTAMP:20260421T143445
CREATED:20180623T145247Z
LAST-MODIFIED:20181210T163312Z
UID:2348-1543144200-1543144200@www.eglise-echo-orange.org
SUMMARY:Lucien Jouve : Les sept secrets de la vie communautaire
DESCRIPTION:
URL:https://www.eglise-echo-orange.org/evenement/lucien-jouve-les-sept-secrets-de-la-vie-communautaire/
LOCATION:Église ÉChO\, 36 rue Joseph Bastet\, Orange\, 84100\, France
GEO:44.1330297;4.8117885
X-APPLE-STRUCTURED-LOCATION;VALUE=URI;X-ADDRESS=Église ÉChO 36 rue Joseph Bastet Orange 84100 France;X-APPLE-RADIUS=500;X-TITLE=36 rue Joseph Bastet:geo:4.8117885,44.1330297
CATEGORIES:Conférence
ORGANIZER;CN="%C3%89glise%20%C3%89ChO":MAILTO:contact@eglise-echo-orange.org
END:VEVENT
END:VCALENDAR