BEGIN:VCALENDAR
VERSION:2.0
PRODID:-//ÉChO - Église Évangélique Chrétienne à Orange - ECPv4.8.1.1//NONSGML v1.0//EN
CALSCALE:GREGORIAN
METHOD:PUBLISH
X-WR-CALNAME:ÉChO - Église Évangélique Chrétienne à Orange
X-ORIGINAL-URL:https://www.eglise-echo-orange.org
X-WR-CALDESC:évènements pour ÉChO - Église Évangélique Chrétienne à Orange
BEGIN:VEVENT
DTSTART;TZID=Europe/Paris:20180318T110000
DTEND;TZID=Europe/Paris:20180318T120000
DTSTAMP:20260425T023627
CREATED:20180226T180951Z
LAST-MODIFIED:20211026T092259Z
UID:1576-1521370800-1521374400@www.eglise-echo-orange.org
SUMMARY:Chorale pour enfants
DESCRIPTION:Une fois tous les 2 mois\, les enfants ont ainsi l’occasion de participer à un temps de louange particulier avec des chants adaptés à leur âge. \nEn savoir plus… \n
URL:https://www.eglise-echo-orange.org/evenement/chorale-pour-enfants/2018-03-18/
LOCATION:Église ÉChO\, 36 rue Joseph Bastet\, Orange\, 84100\, France
GEO:44.1330297;4.8117885
X-APPLE-STRUCTURED-LOCATION;VALUE=URI;X-ADDRESS=Église ÉChO 36 rue Joseph Bastet Orange 84100 France;X-APPLE-RADIUS=500;X-TITLE=36 rue Joseph Bastet:geo:4.8117885,44.1330297
CATEGORIES:Chorale Pour Enfants,Vie d'Église
ATTACH;FMTTYPE=image/jpeg:https://www.eglise-echo-orange.org/wp-content/uploads/2018/05/kids-instruments.jpg
ORGANIZER;CN="%C3%89glise%20%C3%89ChO":MAILTO:contact@eglise-echo-orange.org
END:VEVENT
END:VCALENDAR